BEGIN:VCALENDAR
VERSION:2.0
PRODID:-//heimat:hub - ECPv6.15.18//NONSGML v1.0//EN
CALSCALE:GREGORIAN
METHOD:PUBLISH
X-WR-CALNAME:heimat:hub
X-ORIGINAL-URL:https://heimathub.de
X-WR-CALDESC:Veranstaltungen für heimat:hub
REFRESH-INTERVAL;VALUE=DURATION:PT1H
X-Robots-Tag:noindex
X-PUBLISHED-TTL:PT1H
BEGIN:VTIMEZONE
TZID:Europe/Berlin
BEGIN:DAYLIGHT
TZOFFSETFROM:+0100
TZOFFSETTO:+0200
TZNAME:CEST
DTSTART:20220327T010000
END:DAYLIGHT
BEGIN:STANDARD
TZOFFSETFROM:+0200
TZOFFSETTO:+0100
TZNAME:CET
DTSTART:20221030T010000
END:STANDARD
BEGIN:DAYLIGHT
TZOFFSETFROM:+0100
TZOFFSETTO:+0200
TZNAME:CEST
DTSTART:20230326T010000
END:DAYLIGHT
BEGIN:STANDARD
TZOFFSETFROM:+0200
TZOFFSETTO:+0100
TZNAME:CET
DTSTART:20231029T010000
END:STANDARD
BEGIN:DAYLIGHT
TZOFFSETFROM:+0100
TZOFFSETTO:+0200
TZNAME:CEST
DTSTART:20240331T010000
END:DAYLIGHT
BEGIN:STANDARD
TZOFFSETFROM:+0200
TZOFFSETTO:+0100
TZNAME:CET
DTSTART:20241027T010000
END:STANDARD
END:VTIMEZONE
BEGIN:VEVENT
DTSTART;TZID=Europe/Berlin:20230704T100000
DTEND;TZID=Europe/Berlin:20230704T160000
DTSTAMP:20260420T065028
CREATED:20230315T091013Z
LAST-MODIFIED:20230315T103436Z
UID:6696-1688464800-1688486400@heimathub.de
SUMMARY:24. Aschaffenburger Kulturtage (Donnerstag\, den 29.6. bis Sonntag\, den 9.7.2023)
DESCRIPTION:Wie oft kommunizierst du am Tag mit anderen? Welche Kommunikationsmittel nutzt du und wie haben sich die Möglichkeiten in den letzten 50 Jahren gewandelt? Gemeinsam möchten wir einen Podcast zu dem Thema aufnehmen. Möchtest du die Fragen anderen stellen oder lieber antworten? Die Technik des Digitalladens darf getestet und ausprobiert werden. Am Ende entsteht ein bunter Podcast\, der auf www.heimathub.de und allen gängigen Podcastkanälen zu hören sein wird. Komm einfach im Digitalladen vorbei und berichte. Gerne kannst du deine Kommunikationsmittel\, alt und neu\, mitbringen. Wir freuen uns auf den Austausch vor Ort!
URL:https://heimathub.de/event/24-aschaffenburger-kulturtage-donnerstag-den-29-6-bis-sonntag-den-9-7-2023/
LOCATION:Ankerpunkt Aschaffenburg\, Roßmarkt 11\, Aschaffenburg\, 63739
CATEGORIES:Sonstiges
ATTACH;FMTTYPE=image/jpeg:https://heimathub.de/wp-content/uploads/2023/03/20220624-Digitaltag-tfb-7638-scaled.jpg
END:VEVENT
END:VCALENDAR