BEGIN:VCALENDAR
VERSION:2.0
PRODID:-//heimat:hub - ECPv6.15.20//NONSGML v1.0//EN
CALSCALE:GREGORIAN
METHOD:PUBLISH
X-WR-CALNAME:heimat:hub
X-ORIGINAL-URL:https://heimathub.de
X-WR-CALDESC:Veranstaltungen für heimat:hub
REFRESH-INTERVAL;VALUE=DURATION:PT1H
X-Robots-Tag:noindex
X-PUBLISHED-TTL:PT1H
BEGIN:VTIMEZONE
TZID:Europe/Berlin
BEGIN:DAYLIGHT
TZOFFSETFROM:+0100
TZOFFSETTO:+0200
TZNAME:CEST
DTSTART:20230326T010000
END:DAYLIGHT
BEGIN:STANDARD
TZOFFSETFROM:+0200
TZOFFSETTO:+0100
TZNAME:CET
DTSTART:20231029T010000
END:STANDARD
BEGIN:DAYLIGHT
TZOFFSETFROM:+0100
TZOFFSETTO:+0200
TZNAME:CEST
DTSTART:20240331T010000
END:DAYLIGHT
BEGIN:STANDARD
TZOFFSETFROM:+0200
TZOFFSETTO:+0100
TZNAME:CET
DTSTART:20241027T010000
END:STANDARD
BEGIN:DAYLIGHT
TZOFFSETFROM:+0100
TZOFFSETTO:+0200
TZNAME:CEST
DTSTART:20250330T010000
END:DAYLIGHT
BEGIN:STANDARD
TZOFFSETFROM:+0200
TZOFFSETTO:+0100
TZNAME:CET
DTSTART:20251026T010000
END:STANDARD
END:VTIMEZONE
BEGIN:VEVENT
DTSTART;TZID=Europe/Berlin:20240517T190000
DTEND;TZID=Europe/Berlin:20240518T190000
DTSTAMP:20260421T124328
CREATED:20240220T114834Z
LAST-MODIFIED:20240220T115554Z
UID:11842-1715972400-1716058800@heimathub.de
SUMMARY:Burgensymposien 2024: Die Karolingerzeit in Unterfranken und darüber hinaus. Eine archäologische Spurensuche
DESCRIPTION:15. Symposium zur Burgenforschung in Spessart und Odenwald\nEine Tagung der Arge Seehausen\, des Marktes Zellingen\, des Historischen Vereins Karlstadt e.V. und des Archäologischen Spessartprojekts e.V. – Unterfränkisches Institut für Kulturlandschaftsforschung an der Universität Würzburg \nam Freitag\, den 17. Mai 2024 mit einem Festvortrag ab 19:00 Uhr \nund am Samstag\, den 18. Mai 2024 von 9:00 bis 19:00 Uhr \nim Pfarrheim Zellingen\, Schulplatz 7\, in 97225 Zellingen \nDer Eintritt ist frei! \nWeitere Infos: https://www.spessartprojekt.de/forschung/burgensymposien/burgensymposien-2024-zellingen/ \nKontakt: Dr. Harald Rosmanitz\, Archäologisches Spessartprojekt e.V.\nGrubenweg 5\, 97846 Partenstein\nTelefon: 09355/976569\, Mobil: 01520/9861693\nMail: rosmanitz@spessartprojekt.de \n 
URL:https://heimathub.de/event/burgensymposien-2024-zellingen/
LOCATION:Pfarrheim Zellingen\, Schulplatz 7\, Zellingen\, 97225
CATEGORIES:Tagung
ATTACH;FMTTYPE=image/jpeg:https://heimathub.de/wp-content/uploads/2022/12/Spessart-Projekt-ASP.jpg
ORGANIZER;CN="Arch%C3%A4ologisches Spessartprojekt":MAILTO:himmelsbach@spessartprojekt.de
END:VEVENT
END:VCALENDAR