BEGIN:VCALENDAR
VERSION:2.0
PRODID:-//heimat:hub - ECPv6.15.18//NONSGML v1.0//EN
CALSCALE:GREGORIAN
METHOD:PUBLISH
X-WR-CALNAME:heimat:hub
X-ORIGINAL-URL:https://heimathub.de
X-WR-CALDESC:Veranstaltungen für heimat:hub
REFRESH-INTERVAL;VALUE=DURATION:PT1H
X-Robots-Tag:noindex
X-PUBLISHED-TTL:PT1H
BEGIN:VTIMEZONE
TZID:Europe/Berlin
BEGIN:DAYLIGHT
TZOFFSETFROM:+0100
TZOFFSETTO:+0200
TZNAME:CEST
DTSTART:20220327T010000
END:DAYLIGHT
BEGIN:STANDARD
TZOFFSETFROM:+0200
TZOFFSETTO:+0100
TZNAME:CET
DTSTART:20221030T010000
END:STANDARD
BEGIN:DAYLIGHT
TZOFFSETFROM:+0100
TZOFFSETTO:+0200
TZNAME:CEST
DTSTART:20230326T010000
END:DAYLIGHT
BEGIN:STANDARD
TZOFFSETFROM:+0200
TZOFFSETTO:+0100
TZNAME:CET
DTSTART:20231029T010000
END:STANDARD
BEGIN:DAYLIGHT
TZOFFSETFROM:+0100
TZOFFSETTO:+0200
TZNAME:CEST
DTSTART:20240331T010000
END:DAYLIGHT
BEGIN:STANDARD
TZOFFSETFROM:+0200
TZOFFSETTO:+0100
TZNAME:CET
DTSTART:20241027T010000
END:STANDARD
END:VTIMEZONE
BEGIN:VEVENT
DTSTART;TZID=Europe/Berlin:20230325T140000
DTEND;TZID=Europe/Berlin:20230325T150000
DTSTAMP:20260419T162133
CREATED:20230315T111849Z
LAST-MODIFIED:20230315T111849Z
UID:6709-1679752800-1679756400@heimathub.de
SUMMARY:Enthüllung der Grete Pierenkämper-Plakette am Stadttheater
DESCRIPTION:Veranstaltung zu Ehren von Grete Pierenkämper\nBegrüßung und Vorstellung der Initiative FrauenMachenGeschichte\nAnika Magath \nAnsprache zu Grete Pierenkämper\nAnne Hundhausen \nZitat Grete Pierenkämper\nTanzperformance der Ballett- und TanzTheaterSchule Heeg \nEnthüllung der Grete Pierenkämper-Plakette am Stadttheater\nSiegrun Dändliker \nGrete Pierenkämper\nDie Tänzerin\, Choreografin und Pädagogin Grete Pierenkämper (25.5.1902 Jena – 1995 Aschaffenburg) revolutionierte nach dem Zweiten Weltkrieg die Tanzszene der Stadt Aschaffenburg. Als Gegenbewegung zum klassischen Ballett hatte die Schülerin von Rudolf von Laban in den 1930er Jahren in Berlin den modernen Ausdruckstanz erlernt. Über Umwege kam sie 1947 nach Aschaffenburg und wurde die erste Frau\, die als Ballettmeisterin für das Stadttheater arbeitete.\nParallel gründete sie ihre „Schule für Körperbildung und Tanz“\, an der nicht nur Klassisches Ballett sondern auch Ausdruckstanz unterrichtet wurde. Ihre Schülerinnen und Schüler tanzten bei Aufführungen im Stadttheater teilweise barfuß\, in hautfarbenen Leggins\, auch ohne Musik\, was dem Publikum neu und ungewöhnlich erschien.\nDie erste Schule dieser Art prägte in der Stadt ein begeistertes\, für den zeitgenössischen Tanz aufgeschlossenes Tanzpublikum. \nFrauenMachenGeschichte\nInitiative von Anne Hundhausen\, Anika Magath\, Rosi Ruf und Monika Schmitner\nEin Denkmalprojekt für die Sichtbarkeit historischer Frauen im Stadtbild von Aschaffenburg \nKontakt:\nannehundhausen@t-online.de\nAnikaMagath@web.de\nruf.rosi@t-online.de\ndr.schmitner@freenet.de \nMit freundlicher Unterstützung von Kulturamt Aschaffenburg\, Zonta Club Aschaffenburg\, Die Grünen KV AB-Stadt\, Weinstube Kitz
URL:https://heimathub.de/event/enthuellung-der-grete-pierenkaemper-plakette-am-stadttheater/
LOCATION:Theaterplatz\, Dalbergstraße 18\, Aschaffenburg\, 63739
CATEGORIES:Gedenkveranstaltung
ATTACH;FMTTYPE=image/jpeg:https://heimathub.de/wp-content/uploads/2023/03/Mueller-Gruenitz-1958-scaled.jpg
END:VEVENT
END:VCALENDAR