BEGIN:VCALENDAR
VERSION:2.0
PRODID:-//heimat:hub - ECPv6.15.18//NONSGML v1.0//EN
CALSCALE:GREGORIAN
METHOD:PUBLISH
X-ORIGINAL-URL:https://heimathub.de
X-WR-CALDESC:Veranstaltungen für heimat:hub
REFRESH-INTERVAL;VALUE=DURATION:PT1H
X-Robots-Tag:noindex
X-PUBLISHED-TTL:PT1H
BEGIN:VTIMEZONE
TZID:Europe/Berlin
BEGIN:DAYLIGHT
TZOFFSETFROM:+0100
TZOFFSETTO:+0200
TZNAME:CEST
DTSTART:20220327T010000
END:DAYLIGHT
BEGIN:STANDARD
TZOFFSETFROM:+0200
TZOFFSETTO:+0100
TZNAME:CET
DTSTART:20221030T010000
END:STANDARD
BEGIN:DAYLIGHT
TZOFFSETFROM:+0100
TZOFFSETTO:+0200
TZNAME:CEST
DTSTART:20230326T010000
END:DAYLIGHT
BEGIN:STANDARD
TZOFFSETFROM:+0200
TZOFFSETTO:+0100
TZNAME:CET
DTSTART:20231029T010000
END:STANDARD
BEGIN:DAYLIGHT
TZOFFSETFROM:+0100
TZOFFSETTO:+0200
TZNAME:CEST
DTSTART:20240331T010000
END:DAYLIGHT
BEGIN:STANDARD
TZOFFSETFROM:+0200
TZOFFSETTO:+0100
TZNAME:CET
DTSTART:20241027T010000
END:STANDARD
END:VTIMEZONE
BEGIN:VEVENT
DTSTART;TZID=Europe/Berlin:20230406T143000
DTEND;TZID=Europe/Berlin:20230406T173000
DTSTAMP:20260420T022038
CREATED:20230302T155357Z
LAST-MODIFIED:20230329T095018Z
UID:6561-1680791400-1680802200@heimathub.de
SUMMARY:digital vernetzt - aktiv verbunden
DESCRIPTION:Kennenlernen\, Austausch\, Hilfestellung – alles rund um den heimat:hub mit den Ansprechpartnerinnen und Ansprechpartnern in den Ankerpunkten. \nImmer am ersten Donnerstag des Monats im Ankerpunkt Mömbris.
URL:https://heimathub.de/event/digital-vernetzt-aktiv-verbunden-5/
LOCATION:Ankerpunkt Mömbris\, Schimborner Straße 6\, Mömbris\, Bayern\, 63776\, Deutschland
ATTACH;FMTTYPE=image/jpeg:https://heimathub.de/wp-content/uploads/2023/01/Rathaus-Moembris-scaled.jpg
END:VEVENT
BEGIN:VEVENT
DTSTART;TZID=Europe/Berlin:20230420T193000
DTEND;TZID=Europe/Berlin:20230420T210000
DTSTAMP:20260420T022038
CREATED:20230408T191639Z
LAST-MODIFIED:20230412T131919Z
UID:6998-1682019000-1682024400@heimathub.de
SUMMARY:„Uualohostat“: Wie alt ist Kleinwallstadt wirklich?
DESCRIPTION:Eine Zeitreise durch 1000 Jahre \nNach dem Heimatbuch des Benefiziaten Heinrich Kilian von 1931 wurde Kleinwallstadt im Jahr 1023 zur Vogtei erhoben. Dies wurde und wird von Historikern häufig angezweifelt. Der Heimat- und Geschichtsverein Kleinwallstadt hat dies zum Anlass genommen\, um den historischen Wahrheitsgehalt zu erforschen und die Geschichte Kleinwallstadts zu beleuchten. Das HGV Mitglied Willy Karl hält darüber am 20. April 2023 um 19.30 Uhr einen Vortrag in der Zehntscheune in Kleinwallstadt. Nach monatelangen Recherchen in Archiven und Literaturbeiträgen wird er auf die Frühgeschichte\, die Besiedelung\, Gräber- und Bodenfunde\, die Christianisierung und auf weitere interessante Forschungsergebnisse eingehen. \n 
URL:https://heimathub.de/event/uualohostat-wie-alt-ist-kleinwallstadt-wirklich/
LOCATION:Zehntscheune Kleinwallstadt\, Hauptstr. 2\, Kleinwallstadt\, Bayern\, 63839\, Deutschland
CATEGORIES:Vortrag
ATTACH;FMTTYPE=image/jpeg:https://heimathub.de/wp-content/uploads/2023/04/Zehntscheune-Kleinwallstadt.jpg
ORGANIZER;CN="Heimat- und Geschichtsverein Kleinwallstadt":MAILTO:zisska@zahnleiter.com
END:VEVENT
BEGIN:VEVENT
DTSTART;TZID=Europe/Berlin:20230423T170000
DTEND;TZID=Europe/Berlin:20230423T190000
DTSTAMP:20260420T022038
CREATED:20230419T101919Z
LAST-MODIFIED:20230419T102147Z
UID:7089-1682269200-1682276400@heimathub.de
SUMMARY:"Miltenberg\, eine Stadt am Fluss"
DESCRIPTION:Mit historischen Fotos aus dem Archiv der Museen der Stadt Miltenberg erzählt Dr. Ernst Spindler in seinem Multimedia Vortrag die spannende Geschichte einer Stadt\, deren Entwicklung\, der Alltag der Menschen\, geprägt waren vom Leben am Fluss.\nDer Main war\, in existenzieller Weise\, vielmehr und anders als heute\, Lebensader und Verbindung mit der Welt. Er brachte Arbeit und Brot\, aber auch Bedrohung und Zerstörung\, wenn er über die Ufer trat. Beeindruckende Bilder haben historische Ereignisse und die Menschen in ihrer Zeit festgehalten. \nFischerzunft um 1900\nFür die Ausstellung WASSER bedeutet der Vortrag mit dem Bildschatz aus dem Museum ein besonderes Highlight und zugleich Schlussakkord. \nDie verschiedenen Veranstaltungen in der Galerie konnten eine Vielfalt von Perspektiven auf die dort gezeigten Kunstwerke eröffnen und zeigen\, dass wir uns mit dem Thema der Ausstellung auch mitten im Leben der Stadt und ihrer Geschichte befinden. \nAbgebildete Fotos: Bildarchiv der Museen der Stadt Miltenberg\, Dr. Ernst Spindler
URL:https://heimathub.de/event/miltenberg-eine-stadt-am-fluss/
LOCATION:Galerie am Tor\, Hauptstr. 4\, Miltenberg\, Bayern\, 63897\, Deutschland
CATEGORIES:Vortrag
ATTACH;FMTTYPE=image/jpeg:https://heimathub.de/wp-content/uploads/2023/04/14390vs-Stellnetze-1930.jpeg
END:VEVENT
BEGIN:VEVENT
DTSTART;TZID=Europe/Berlin:20230426T190000
DTEND;TZID=Europe/Berlin:20230426T210000
DTSTAMP:20260420T022038
CREATED:20230419T100137Z
LAST-MODIFIED:20230426T135615Z
UID:7083-1682535600-1682542800@heimathub.de
SUMMARY:"Die Erinnerung wach halten - The Last Swiss Holocaust Survivors"
DESCRIPTION:Buchlesung mit Anita Winter\nDas Erzählen über den Holocaust war jahrelang ein Mittel\, um gegen das Vergessen\, das Relativieren und die Gleichgültigkeit anzukämpfen. Nun befinden wir uns historisch gesehen in einer Zeit des Übergangs: Leider sind nur noch wenige Zeitzeugen dieses furchtbaren Genozids unter uns. Mit den letzten Überlebenden sterben die letzten Zeitzeuginnen und Zeitzeugen. Ihre Stimmen sind deshalb von unermesslicher Bedeutung. \nIn ihrem Buch „The Last Swiss Holocaust Survivors“ zeigt Anita Winter ergreifende Porträts von Menschen\, deren Menschenwürde einst verletzt wurde. Sie berichten von Erfahrungen und Erinnerungen\, die teilweise kaum in Worte gefasst werden können.\nDie Autorin wird im Rahmen einer Buchlesung\, die am Mittwoch\, 26. April 2023 um 19.00 Uhr im Historischen Rathaus Eschau\, Elsavastraße 83\, stattfindet\, ihr Werk vorstellen und aus ihrer Arbeit als Präsidentin der Gamaraal-Stiftung berichten. Hierzu laden wir alle interessierten Bürgerinnen und Bürger recht herzlich ein. \nAnita Winter ist die Enkelin von Dr. Moses Strauß\, der am 20. Dezember 1887 in Eschau geboren wurde und dort seine Kindheit verbrachte. Anita Winter folgt der Einladung des Marktes Eschau\, um den Geburtsort ihres Großvaters zu besuchen. \nAnmeldung unter der Telefonnummer 09374 9735-0 bzw. per E-Mail: rathaus@eschau.de. \n 
URL:https://heimathub.de/event/die-erinnerung-wachhalten-the-last-swiss-holocaust-survivors/
LOCATION:Ankerpunkt Eschau\, Elsavastr. 83\, Eschau\, 63863\, Deutschland
CATEGORIES:Lesung
ATTACH;FMTTYPE=image/jpeg:https://heimathub.de/wp-content/uploads/2023/02/BIB_quer_geasamt_2018-scaled.jpg
END:VEVENT
BEGIN:VEVENT
DTSTART;TZID=Europe/Berlin:20230427T110000
DTEND;TZID=Europe/Berlin:20230427T120000
DTSTAMP:20260420T022038
CREATED:20230419T095707Z
LAST-MODIFIED:20230419T101027Z
UID:7080-1682593200-1682596800@heimathub.de
SUMMARY:Erinnerung an die Deportation jüdischer Bürgerinnen und Bürger
DESCRIPTION:Im Jahr 1941 begann im Deutschen Reich die systematische Deportation der jüdischen  Bevölkerung. An dieses dunkle Kapitel der deutschen Geschichte erinnert u.a.  der „DenkOrt Deportationen 1941 – 1944“ vor dem Hauptbahnhof in Würzburg. Er ist ein Ort der Erinnerung an über 2000 jüdische Frauen\, Männer und Kinder aus Unterfranken\, die vom NS-Staat in die  Durchgangs- und Vernichtungslager verschleppt wurden. Am 24. September 2021 wurde an diesem Gedenkort ein von der Künstlerin Karin Günther aus Eschau erstelltes Gepäckstück aufgestellt. \nAus Eschau wurden vier jüdische Bürgerinnen und Bürger deportiert. Mit einem in Eschau aufgestellten Gepäckstück soll hieran erinnert werden. \nIm Rahmen einer Feierstunde\, die am Donnerstag\, 27. April 2023 um 11.00 Uhr in der Elsavahalle Eschau\, Rathausstr. 11 stattfindet\, wird dieses Gepäckstück offiziell vorgestellt. Hierzu laden wir interessierte Bürgerinnen und Bürger herzlich ein. \nAnmeldung unter der Telefonnummer 09374 97350 bzw. per E-Mail: rathaus@eschau.de. \n 
URL:https://heimathub.de/event/erinnerung-an-die-deportation-juedischer-buergerinnen-und-buerger/
LOCATION:Elsavahalle Eschau\, Rathausstr. 11\, Eschau\, Bayern\, 63863\, Deutschland
CATEGORIES:Gedenkveranstaltung
ATTACH;FMTTYPE=image/jpeg:https://heimathub.de/wp-content/uploads/2023/04/elsavahalle.jpg
END:VEVENT
END:VCALENDAR