BEGIN:VCALENDAR
VERSION:2.0
PRODID:-//heimat:hub - ECPv6.15.20//NONSGML v1.0//EN
CALSCALE:GREGORIAN
METHOD:PUBLISH
X-WR-CALNAME:heimat:hub
X-ORIGINAL-URL:https://heimathub.de
X-WR-CALDESC:Veranstaltungen für heimat:hub
REFRESH-INTERVAL;VALUE=DURATION:PT1H
X-Robots-Tag:noindex
X-PUBLISHED-TTL:PT1H
BEGIN:VTIMEZONE
TZID:Europe/Berlin
BEGIN:DAYLIGHT
TZOFFSETFROM:+0100
TZOFFSETTO:+0200
TZNAME:CEST
DTSTART:20250330T010000
END:DAYLIGHT
BEGIN:STANDARD
TZOFFSETFROM:+0200
TZOFFSETTO:+0100
TZNAME:CET
DTSTART:20251026T010000
END:STANDARD
BEGIN:DAYLIGHT
TZOFFSETFROM:+0100
TZOFFSETTO:+0200
TZNAME:CEST
DTSTART:20260329T010000
END:DAYLIGHT
BEGIN:STANDARD
TZOFFSETFROM:+0200
TZOFFSETTO:+0100
TZNAME:CET
DTSTART:20261025T010000
END:STANDARD
BEGIN:DAYLIGHT
TZOFFSETFROM:+0100
TZOFFSETTO:+0200
TZNAME:CEST
DTSTART:20270328T010000
END:DAYLIGHT
BEGIN:STANDARD
TZOFFSETFROM:+0200
TZOFFSETTO:+0100
TZNAME:CET
DTSTART:20271031T010000
END:STANDARD
END:VTIMEZONE
BEGIN:VEVENT
DTSTART;TZID=Europe/Berlin:20260301T160000
DTEND;TZID=Europe/Berlin:20260731T180000
DTSTAMP:20260423T014441
CREATED:20260305T101633Z
LAST-MODIFIED:20260305T101633Z
UID:21242-1772380800-1785520800@heimathub.de
SUMMARY:Ausstellung "Bureau\, Büro"
DESCRIPTION:Die Ausstellung wird im Heimat-und Geschichtsmuseum Sackhaus Schöllkrippen gezeigt. \nÖffnungszeiten: Sonntags 16.00 Uhr bis 18.00 Uhr
URL:https://heimathub.de/event/ausstellung-bureau-buero/
LOCATION:Sackhaus Schöllkrippen\, Am Sackhaus 1\,\, Schöllkrippen\, Bayern\, 63825\, Germany
CATEGORIES:Ausstellung
ATTACH;FMTTYPE=image/jpeg:https://heimathub.de/wp-content/uploads/2026/03/Bureau-Buero-Schoellkrippen5-3-2026_103843_.jpeg
END:VEVENT
BEGIN:VEVENT
DTSTART;TZID=Europe/Berlin:20260423T150000
DTEND;TZID=Europe/Berlin:20260423T163000
DTSTAMP:20260423T014441
CREATED:20260414T121645Z
LAST-MODIFIED:20260414T122542Z
UID:22323-1776956400-1776961800@heimathub.de
SUMMARY:Geschichten Werkstatt - erzählen & sammeln
DESCRIPTION:Geschichte braucht nicht nur den Moment des Geschehens\, sondern auch den Moment des Weitergebens. Zur „Geschichten-Werkstatt“ können Sie Bilder\, Dokumente und Erzählungen mitbringen\, um diese im gemeinsamen Gespräch zu teilen. Gleichzeitig bekommen Sie einen Einblick in die Projekte Heimat:data und Heimat:hub. Damit gibt es die Möglichkeit\, Geschichte in der Region digital zu teilen. Wir treffen uns in lockerer Runde im Ausstellungsraum des Hermann-Dümig-Hauses. \nDas Projekt Heimat:data und Heimathub wird gefördert vom bayerischen Staatsministerium für Finanzen und Heimat. \nUm Anmeldung bei der VHS Kahlgrund-Spessart wird gebeten.
URL:https://heimathub.de/event/geschichten-werkstatt-erzaehlen-sammeln/
LOCATION:Hermann-Dümig-Haus\, Am Markt 10\, Mömbris\, Bayern\, 63776\, Deutschland
CATEGORIES:Austausch
ATTACH;FMTTYPE=image/png:https://heimathub.de/wp-content/uploads/2026/04/Bildmarke-Li-Rosa1000-px.png
ORGANIZER;CN="VHS Kahlgrund-Spessart":MAILTO:info@vhs-kahlgrund-spessart.de
END:VEVENT
END:VCALENDAR