BEGIN:VCALENDAR
VERSION:2.0
PRODID:-//heimat:hub - ECPv6.15.18//NONSGML v1.0//EN
CALSCALE:GREGORIAN
METHOD:PUBLISH
X-WR-CALNAME:heimat:hub
X-ORIGINAL-URL:https://heimathub.de
X-WR-CALDESC:Veranstaltungen für heimat:hub
REFRESH-INTERVAL;VALUE=DURATION:PT1H
X-Robots-Tag:noindex
X-PUBLISHED-TTL:PT1H
BEGIN:VTIMEZONE
TZID:Europe/Berlin
BEGIN:DAYLIGHT
TZOFFSETFROM:+0100
TZOFFSETTO:+0200
TZNAME:CEST
DTSTART:20220327T010000
END:DAYLIGHT
BEGIN:STANDARD
TZOFFSETFROM:+0200
TZOFFSETTO:+0100
TZNAME:CET
DTSTART:20221030T010000
END:STANDARD
BEGIN:DAYLIGHT
TZOFFSETFROM:+0100
TZOFFSETTO:+0200
TZNAME:CEST
DTSTART:20230326T010000
END:DAYLIGHT
BEGIN:STANDARD
TZOFFSETFROM:+0200
TZOFFSETTO:+0100
TZNAME:CET
DTSTART:20231029T010000
END:STANDARD
BEGIN:DAYLIGHT
TZOFFSETFROM:+0100
TZOFFSETTO:+0200
TZNAME:CEST
DTSTART:20240331T010000
END:DAYLIGHT
BEGIN:STANDARD
TZOFFSETFROM:+0200
TZOFFSETTO:+0100
TZNAME:CET
DTSTART:20241027T010000
END:STANDARD
END:VTIMEZONE
BEGIN:VEVENT
DTSTART;TZID=Europe/Berlin:20230616T113000
DTEND;TZID=Europe/Berlin:20230616T133000
DTSTAMP:20260419T223116
CREATED:20230414T110709Z
LAST-MODIFIED:20230614T092150Z
UID:7052-1686915000-1686922200@heimathub.de
SUMMARY:Zeig mir Deinen Schuhkarton mit alten Dokumenten und Fotos ... Wir machen ihn digital!
DESCRIPTION:Die Zukunft der Erinnerung ist digital. Wir laden alle Generationen dazu ein\, in den Aschaffenburger Digitalladen (Roßmarkt 11) zu kommen und die neue digitale Erinnerungs- und Mitmachplattform „Heimathub“ kennenzulernen! Das Mitbringen von alten Dokumenten\, Fotoalben und vielem mehr ist dabei ausdrücklich erwünscht – eben der sprichwörtliche alte Schuhkarton\, der auf dem Dachboden aufgetaucht ist … Gemeinsam wollen wir mit Euch auch darüber sprechen\, was für Euch „Heimat“ am Bayerischen Untermain und in Aschaffenburg ist. Was verbindet Ihr damit als lange Ansässige oder auch „Zugezogene“? Wie empfindet Ihr die Herausforderungen der digitalen Zukunft? Diese Veranstaltung findet im Rahmen des Digitaltags in Aschaffenburg statt. \nDas Aschaffenburger Team des „Heimathub“ freut sich auf das Gespräch mit Euch bei einer Tasse Kaffee! \nKontakt: \nAnna Hein-Schwesinger M.A.\, Dr. Vaios Kalogrias (Mail: aschaffenburg@heimathub.de)
URL:https://heimathub.de/event/zeig-mir-deinen-schuhkarton-mit-alten-dokumenten-und-fotos-wir-machen-ihn-digital/
LOCATION:Ankerpunkt Aschaffenburg\, Roßmarkt 11\, Aschaffenburg\, 63739
ATTACH;FMTTYPE=image/jpeg:https://heimathub.de/wp-content/uploads/2023/04/Plakat-Digitaltag-2023.jpg
ORGANIZER;CN="heimat%3Adata":MAILTO:moembris@heimathub.de
END:VEVENT
BEGIN:VEVENT
DTSTART;TZID=Europe/Berlin:20230616T140000
DTEND;TZID=Europe/Berlin:20230616T170000
DTSTAMP:20260419T223116
CREATED:20230510T100314Z
LAST-MODIFIED:20230616T120723Z
UID:7107-1686924000-1686934800@heimathub.de
SUMMARY:Zeig mir Deinen Schuhkarton mit alten Dokumenten und Fotos … Wir machen ihn digital!
DESCRIPTION:Die Zukunft der Erinnerung ist digital. Wir laden alle Generationen dazu ein\, ins historische Rathaus nach Eschau\, Elsavastr. 83 zu kommen und die neue digitale Erinnerungs- und Mitmachplattform „Heimathub“ kennenzulernen! Das Mitbringen von alten Dokumenten\, Fotoalben und vielem mehr ist dabei ausdrücklich erwünscht – eben der sprichwörtliche alte Schuhkarton\, der auf dem Dachboden aufgetaucht ist …\nGemeinsam wollen wir mit Euch auch darüber sprechen\, was für Euch „Heimat“ am Bayerischen Untermain und im Kreis Miltenberg bedeutet. Was verbindet Ihr damit als lange Ansässige oder auch „Zugezogene“? Wie empfindet Ihr die Herausforderungen der digitalen Zukunft? \nDiese Veranstaltung findet im Rahmen des Digitaltags in Eschau statt. Jan H. Sachers vom „Heimathub“ freut sich auf das Gespräch mit Euch bei einer Tasse Kaffee! \n 
URL:https://heimathub.de/event/zeig-uns-deinen-schuhkarton-mit-alten-dokumenten-und-fotos-wir-machen-ihn-digital/
LOCATION:Ankerpunkt Eschau\, Elsavastr. 83\, Eschau\, 63863\, Deutschland
CATEGORIES:Austausch
ATTACH;FMTTYPE=image/jpeg:https://heimathub.de/wp-content/uploads/2023/04/Scantent1-scaled.jpg
ORGANIZER;CN="heimat%3Adata":MAILTO:moembris@heimathub.de
END:VEVENT
BEGIN:VEVENT
DTSTART;TZID=Europe/Berlin:20230616T140000
DTEND;TZID=Europe/Berlin:20230616T170000
DTSTAMP:20260419T223116
CREATED:20230607T084738Z
LAST-MODIFIED:20230607T085303Z
UID:7501-1686924000-1686934800@heimathub.de
SUMMARY:Zeig mir deinen Schuhkarton mit alten Dokumenten\, Fotos ... Wir machen ihn digital!
DESCRIPTION:Jakobs Kulturwagen macht am Digitaltag Station an der Ölmühle Mömbris. Wir laden alle Generationen ein die neue digitale Erinnerungs- und Mitmachplattform Heimathub kennen zu lernen! Das Mitbringen von alten Dokumenten\, Fotoalben und vielem mehr ist dabei ausdrücklich erwünscht – eben der sprichwörtliche alte Schuhkarton\, der auf dem Dachboden aufgetaucht ist. Gemeinsam wollen wir mit Euch auch darüber sprechen\, was für Euch „Heimat“ am Bayerischen Untermain und im Landkreis Aschaffenburg ist. Was verbindet Ihr damit als lange Ansässige oder auch Zugezogene? \nMarkus Schmitt vom Team des „Heimathub“ freut sich auf das Gespräch mit Euch bei Kaffee & kühlen Getränken!
URL:https://heimathub.de/event/zeig-mir-deinen-schuhkarton-mit-alten-dokumenten-fotos/
LOCATION:historische Ölmühle Mömbris\, Parkplatz Ölmühle\, Mömbris\, Bayern\, 63776
ATTACH;FMTTYPE=image/jpeg:https://heimathub.de/wp-content/uploads/2023/06/IMG_20210722_204513.jpg
ORGANIZER;CN="heimat%3Adata":MAILTO:moembris@heimathub.de
END:VEVENT
END:VCALENDAR