BEGIN:VCALENDAR
VERSION:2.0
PRODID:-//heimat:hub - ECPv6.15.18//NONSGML v1.0//EN
CALSCALE:GREGORIAN
METHOD:PUBLISH
X-WR-CALNAME:heimat:hub
X-ORIGINAL-URL:https://heimathub.de
X-WR-CALDESC:Veranstaltungen für heimat:hub
REFRESH-INTERVAL;VALUE=DURATION:PT1H
X-Robots-Tag:noindex
X-PUBLISHED-TTL:PT1H
BEGIN:VTIMEZONE
TZID:Europe/Berlin
BEGIN:DAYLIGHT
TZOFFSETFROM:+0100
TZOFFSETTO:+0200
TZNAME:CEST
DTSTART:20220327T010000
END:DAYLIGHT
BEGIN:STANDARD
TZOFFSETFROM:+0200
TZOFFSETTO:+0100
TZNAME:CET
DTSTART:20221030T010000
END:STANDARD
BEGIN:DAYLIGHT
TZOFFSETFROM:+0100
TZOFFSETTO:+0200
TZNAME:CEST
DTSTART:20230326T010000
END:DAYLIGHT
BEGIN:STANDARD
TZOFFSETFROM:+0200
TZOFFSETTO:+0100
TZNAME:CET
DTSTART:20231029T010000
END:STANDARD
BEGIN:DAYLIGHT
TZOFFSETFROM:+0100
TZOFFSETTO:+0200
TZNAME:CEST
DTSTART:20240331T010000
END:DAYLIGHT
BEGIN:STANDARD
TZOFFSETFROM:+0200
TZOFFSETTO:+0100
TZNAME:CET
DTSTART:20241027T010000
END:STANDARD
END:VTIMEZONE
BEGIN:VEVENT
DTSTART;TZID=Europe/Berlin:20230521T110000
DTEND;TZID=Europe/Berlin:20230521T170000
DTSTAMP:20260420T021712
CREATED:20230302T161902Z
LAST-MODIFIED:20230503T091017Z
UID:6569-1684666800-1684688400@heimathub.de
SUMMARY:Internationaler Museumstag in Gunzenbach
DESCRIPTION:Dieses Jahr steht unser Tag unter dem Motto „Ortsansichten“. Um 11 Uhr eröffnen wir die Sonderausstellung mit Zeichnungen des Gunzenbacher Zeichners Benno Rosenberger\, der über viele Jahre das Mitteilungsblatt mit seinen Ortsansichten gestaltete. Heute würde man das vielleicht „Urban Sketching“ nennen. \nGenau das können die Besucher um 14 Uhr bei einem ca. einstündigen Workshop vor Ort kennenlernen. Material ist vorhanden\, um Anmeldung für den Workshop wird gebeten: projekt@jakob-kultur-leben.de. \nDas Projekt „Heimathub“ wird an dem Tag vorgestellt und zeigt was man unter einem Bürger*innenarchiv versteht und lädt zum Mitmachen ein. Die Sammlung ist natürlich geöffnet und der Betreuer des Museums\, Klaus Simon\, wird fachkundig Auskunft erteilen. Und natürlich fehlen auch die „Spiele uff de Gass“ nicht\, bei denen gehüpft\, balanciert\, gelacht und Gemeinschaft gelebt wird. \nEin toller Tag für alle Generationen. Getränke\, kleine Snacks und Kaffee & Kuchen gibt es natürlich auch.
URL:https://heimathub.de/event/internationaler-museumstag-in-gunzenbach/
LOCATION:Volkskundliche Sammlung Markt Mömbris\, Eichwaldstraße 11\, Gunzenbach\, Bayern\, 63776\, Deutschland
CATEGORIES:Workshop
ATTACH;FMTTYPE=image/jpeg:https://heimathub.de/wp-content/uploads/archive/5/2023/03/Museumstag-2022-scaled.jpg
END:VEVENT
BEGIN:VEVENT
DTSTART;TZID=Europe/Berlin:20230521T140000
DTEND;TZID=Europe/Berlin:20230521T160000
DTSTAMP:20260420T021712
CREATED:20230427T143335Z
LAST-MODIFIED:20230427T144305Z
UID:7143-1684677600-1684684800@heimathub.de
SUMMARY:Heimaterlebnistag - Sagenwanderung
DESCRIPTION:Der Heimat- und Geschichtsverein lädt zu einer „Sagenwanderung“ ein. Spazieren sie mit uns zu den Plätzen\, wo die Haibacher Sagen spielen. Dabei wird der Ritter Reiner von Heydebach besucht\, die Geschichte vom feurigen Mann erzählt\, der Ring mit dem Kessel gehoben\, die Erscheinung im Schemersgrund erklärt und der Verbleib des „Muhkalb“ gesucht. \n\nDauer des Rundweges ist 2 Stunden\, die Weglänge etwa 4 km. Der Weg ist teilweise für Kinderwagen und Rollstuhlfahrer nur bedingt geeignet. Kinder können nur in Begleitung einer Aufsichtsperson mitgehen. Manche Sagen sind für kleine Kinder etwas „gruselig“. Wir freuen uns auf sie!
URL:https://heimathub.de/event/heimaterlebnistag-sagenwanderung/
LOCATION:Spielplatz an den 3 Kreuzen\, Bessenbacher Weg 17\, Haibach\, Bayern\, 63808\, Deutschland
ATTACH;FMTTYPE=image/jpeg:https://heimathub.de/wp-content/uploads/2023/04/Logo-HGV-Haibach.jpg
ORGANIZER;CN="Heimat- und Geschichtsverein Haibach%2C Gr%C3%BCnmorsbach%2C D%C3%B6rrmorsbach":MAILTO:robert@fuchs-haibach.de
END:VEVENT
END:VCALENDAR