BEGIN:VCALENDAR
VERSION:2.0
PRODID:-//heimat:hub - ECPv6.15.18//NONSGML v1.0//EN
CALSCALE:GREGORIAN
METHOD:PUBLISH
X-ORIGINAL-URL:https://heimathub.de
X-WR-CALDESC:Veranstaltungen für heimat:hub
REFRESH-INTERVAL;VALUE=DURATION:PT1H
X-Robots-Tag:noindex
X-PUBLISHED-TTL:PT1H
BEGIN:VTIMEZONE
TZID:Europe/Berlin
BEGIN:DAYLIGHT
TZOFFSETFROM:+0100
TZOFFSETTO:+0200
TZNAME:CEST
DTSTART:20220327T010000
END:DAYLIGHT
BEGIN:STANDARD
TZOFFSETFROM:+0200
TZOFFSETTO:+0100
TZNAME:CET
DTSTART:20221030T010000
END:STANDARD
BEGIN:DAYLIGHT
TZOFFSETFROM:+0100
TZOFFSETTO:+0200
TZNAME:CEST
DTSTART:20230326T010000
END:DAYLIGHT
BEGIN:STANDARD
TZOFFSETFROM:+0200
TZOFFSETTO:+0100
TZNAME:CET
DTSTART:20231029T010000
END:STANDARD
BEGIN:DAYLIGHT
TZOFFSETFROM:+0100
TZOFFSETTO:+0200
TZNAME:CEST
DTSTART:20240331T010000
END:DAYLIGHT
BEGIN:STANDARD
TZOFFSETFROM:+0200
TZOFFSETTO:+0100
TZNAME:CET
DTSTART:20241027T010000
END:STANDARD
END:VTIMEZONE
BEGIN:VEVENT
DTSTART;TZID=Europe/Berlin:20230506T090000
DTEND;TZID=Europe/Berlin:20230506T190000
DTSTAMP:20260420T022012
CREATED:20230324T092115Z
LAST-MODIFIED:20230324T093035Z
UID:6864-1683363600-1683399600@heimathub.de
SUMMARY:14. SYMPOSIUM ZUR BURGENFORSCHUNG IN SPESSART UND ODENWALD
DESCRIPTION:Mit einem Bein im Grab – Tod und Sterben als Forschungsfeld der Archäologie \nDas Thema „Tod und Sterben“ betrifft jeden Menschen persönlich und übt seit jeher eine Faszination auf die Lebenden aus. Eine Mischung aus Interesse und Furcht kennzeichnet unseren Umgang mit dieser Materie und endet häufig im Verdrängen. Vor noch nicht allzu langer Zeit wurde dies völlig anders gehandhabt. \nFür die archäologische Forschung ist die Beschäftigung mit der Thematik unerlässlich: Die wissenschaftliche Auswertung von Bestattungen über alle Zeiten hinweg zählt zu ihren traditionellen Forschungsschwerpunkten. Wer sich mit der Vergangenheit des Menschen auseinandersetzt\, kommt an seinen sterblichen Überresten und am Totenbrauchtum nicht vorbei. \nDie archäologische Forschung des Archäologischen Spessartprojekts e.V. – Unterfränkisches Institut für Kulturlandschaftsforschung an der Universität Würzburg hat sich dieses Themas mehrfach angenommen. Impulsgebend war die Aufdeckung des Friedhofs im Priorat von Elisabethenzell bei Rieneck\, bei der insgesamt 52 Individuen ergraben werden konnten. Mehrere von ihnen wurden anthropologisch analysiert. Den Anstoß für die Themenfindung des diesjährigen Symposiums zur Burgenforschung im Spessart gab ein weiterer von uns untersuchter Begräbnisplatz auf dem Gotthardsberg zwischen Amorbach und Weilbach.
URL:https://heimathub.de/event/14-symposium-zur-burgenforschung-in-spessart-und-odenwald-2/
LOCATION:Dorfgemeinschaftshaus Weckbach\, Ohrnbachtalstraße 37\, Weilbach-Weckbach\, Bayern\, 63937\, Deutschland
CATEGORIES:Vortrag
ATTACH;FMTTYPE=image/jpeg:https://heimathub.de/wp-content/uploads/2023/03/Spessart-Projekt-ASP-2.jpg
ORGANIZER;CN="Arch%C3%A4ologisches Spessartprojekt":MAILTO:himmelsbach@spessartprojekt.de
END:VEVENT
END:VCALENDAR