BEGIN:VCALENDAR
VERSION:2.0
PRODID:-//heimat:hub - ECPv6.15.18//NONSGML v1.0//EN
CALSCALE:GREGORIAN
METHOD:PUBLISH
X-WR-CALNAME:heimat:hub
X-ORIGINAL-URL:https://heimathub.de
X-WR-CALDESC:Veranstaltungen für heimat:hub
REFRESH-INTERVAL;VALUE=DURATION:PT1H
X-Robots-Tag:noindex
X-PUBLISHED-TTL:PT1H
BEGIN:VTIMEZONE
TZID:Europe/Berlin
BEGIN:DAYLIGHT
TZOFFSETFROM:+0100
TZOFFSETTO:+0200
TZNAME:CEST
DTSTART:20220327T010000
END:DAYLIGHT
BEGIN:STANDARD
TZOFFSETFROM:+0200
TZOFFSETTO:+0100
TZNAME:CET
DTSTART:20221030T010000
END:STANDARD
BEGIN:DAYLIGHT
TZOFFSETFROM:+0100
TZOFFSETTO:+0200
TZNAME:CEST
DTSTART:20230326T010000
END:DAYLIGHT
BEGIN:STANDARD
TZOFFSETFROM:+0200
TZOFFSETTO:+0100
TZNAME:CET
DTSTART:20231029T010000
END:STANDARD
BEGIN:DAYLIGHT
TZOFFSETFROM:+0100
TZOFFSETTO:+0200
TZNAME:CEST
DTSTART:20240331T010000
END:DAYLIGHT
BEGIN:STANDARD
TZOFFSETFROM:+0200
TZOFFSETTO:+0100
TZNAME:CET
DTSTART:20241027T010000
END:STANDARD
END:VTIMEZONE
BEGIN:VEVENT
DTSTART;TZID=Europe/Berlin:20230426T190000
DTEND;TZID=Europe/Berlin:20230426T210000
DTSTAMP:20260420T021651
CREATED:20230419T100137Z
LAST-MODIFIED:20230426T135615Z
UID:7083-1682535600-1682542800@heimathub.de
SUMMARY:"Die Erinnerung wach halten - The Last Swiss Holocaust Survivors"
DESCRIPTION:Buchlesung mit Anita Winter\nDas Erzählen über den Holocaust war jahrelang ein Mittel\, um gegen das Vergessen\, das Relativieren und die Gleichgültigkeit anzukämpfen. Nun befinden wir uns historisch gesehen in einer Zeit des Übergangs: Leider sind nur noch wenige Zeitzeugen dieses furchtbaren Genozids unter uns. Mit den letzten Überlebenden sterben die letzten Zeitzeuginnen und Zeitzeugen. Ihre Stimmen sind deshalb von unermesslicher Bedeutung. \nIn ihrem Buch „The Last Swiss Holocaust Survivors“ zeigt Anita Winter ergreifende Porträts von Menschen\, deren Menschenwürde einst verletzt wurde. Sie berichten von Erfahrungen und Erinnerungen\, die teilweise kaum in Worte gefasst werden können.\nDie Autorin wird im Rahmen einer Buchlesung\, die am Mittwoch\, 26. April 2023 um 19.00 Uhr im Historischen Rathaus Eschau\, Elsavastraße 83\, stattfindet\, ihr Werk vorstellen und aus ihrer Arbeit als Präsidentin der Gamaraal-Stiftung berichten. Hierzu laden wir alle interessierten Bürgerinnen und Bürger recht herzlich ein. \nAnita Winter ist die Enkelin von Dr. Moses Strauß\, der am 20. Dezember 1887 in Eschau geboren wurde und dort seine Kindheit verbrachte. Anita Winter folgt der Einladung des Marktes Eschau\, um den Geburtsort ihres Großvaters zu besuchen. \nAnmeldung unter der Telefonnummer 09374 9735-0 bzw. per E-Mail: rathaus@eschau.de. \n 
URL:https://heimathub.de/event/die-erinnerung-wachhalten-the-last-swiss-holocaust-survivors/
LOCATION:Ankerpunkt Eschau\, Elsavastr. 83\, Eschau\, 63863\, Deutschland
CATEGORIES:Lesung
ATTACH;FMTTYPE=image/jpeg:https://heimathub.de/wp-content/uploads/2023/02/BIB_quer_geasamt_2018-scaled.jpg
END:VEVENT
END:VCALENDAR