BEGIN:VCALENDAR
VERSION:2.0
PRODID:-//heimat:hub - ECPv6.15.18//NONSGML v1.0//EN
CALSCALE:GREGORIAN
METHOD:PUBLISH
X-ORIGINAL-URL:https://heimathub.de
X-WR-CALDESC:Veranstaltungen für heimat:hub
REFRESH-INTERVAL;VALUE=DURATION:PT1H
X-Robots-Tag:noindex
X-PUBLISHED-TTL:PT1H
BEGIN:VTIMEZONE
TZID:Europe/Berlin
BEGIN:DAYLIGHT
TZOFFSETFROM:+0100
TZOFFSETTO:+0200
TZNAME:CEST
DTSTART:20220327T010000
END:DAYLIGHT
BEGIN:STANDARD
TZOFFSETFROM:+0200
TZOFFSETTO:+0100
TZNAME:CET
DTSTART:20221030T010000
END:STANDARD
BEGIN:DAYLIGHT
TZOFFSETFROM:+0100
TZOFFSETTO:+0200
TZNAME:CEST
DTSTART:20230326T010000
END:DAYLIGHT
BEGIN:STANDARD
TZOFFSETFROM:+0200
TZOFFSETTO:+0100
TZNAME:CET
DTSTART:20231029T010000
END:STANDARD
BEGIN:DAYLIGHT
TZOFFSETFROM:+0100
TZOFFSETTO:+0200
TZNAME:CEST
DTSTART:20240331T010000
END:DAYLIGHT
BEGIN:STANDARD
TZOFFSETFROM:+0200
TZOFFSETTO:+0100
TZNAME:CET
DTSTART:20241027T010000
END:STANDARD
END:VTIMEZONE
BEGIN:VEVENT
DTSTART;TZID=Europe/Berlin:20230423T170000
DTEND;TZID=Europe/Berlin:20230423T190000
DTSTAMP:20260420T040818
CREATED:20230419T101919Z
LAST-MODIFIED:20230419T102147Z
UID:7089-1682269200-1682276400@heimathub.de
SUMMARY:"Miltenberg\, eine Stadt am Fluss"
DESCRIPTION:Mit historischen Fotos aus dem Archiv der Museen der Stadt Miltenberg erzählt Dr. Ernst Spindler in seinem Multimedia Vortrag die spannende Geschichte einer Stadt\, deren Entwicklung\, der Alltag der Menschen\, geprägt waren vom Leben am Fluss.\nDer Main war\, in existenzieller Weise\, vielmehr und anders als heute\, Lebensader und Verbindung mit der Welt. Er brachte Arbeit und Brot\, aber auch Bedrohung und Zerstörung\, wenn er über die Ufer trat. Beeindruckende Bilder haben historische Ereignisse und die Menschen in ihrer Zeit festgehalten. \nFischerzunft um 1900\nFür die Ausstellung WASSER bedeutet der Vortrag mit dem Bildschatz aus dem Museum ein besonderes Highlight und zugleich Schlussakkord. \nDie verschiedenen Veranstaltungen in der Galerie konnten eine Vielfalt von Perspektiven auf die dort gezeigten Kunstwerke eröffnen und zeigen\, dass wir uns mit dem Thema der Ausstellung auch mitten im Leben der Stadt und ihrer Geschichte befinden. \nAbgebildete Fotos: Bildarchiv der Museen der Stadt Miltenberg\, Dr. Ernst Spindler
URL:https://heimathub.de/event/miltenberg-eine-stadt-am-fluss/
LOCATION:Galerie am Tor\, Hauptstr. 4\, Miltenberg\, Bayern\, 63897\, Deutschland
CATEGORIES:Vortrag
ATTACH;FMTTYPE=image/jpeg:https://heimathub.de/wp-content/uploads/2023/04/14390vs-Stellnetze-1930.jpeg
END:VEVENT
END:VCALENDAR